BEGIN:VCALENDAR
VERSION:2.0
PRODID:iru.org
BEGIN:VEVENT
UID:69ed5c05b9bf0
DTSTART:20260514T220000Z
SEQUENCE:0
TRANSP:OPAQUE
DTEND:20260514T220000Z
URL:https://www.iru.org/join-us/events/eighteenth-annual-meeting-intergover
 nmental-commission-igc-traceca-2026-05-15
SUMMARY:Eighteenth Annual Meeting of the Intergovernmental Commission (IGC)
  TRACECA 
CLASS:PUBLIC
DESCRIPTION:Event details & registration: https://www.iru.org/join-us/event
 s/eighteenth-annual-meeting-intergovernmental-commission-igc-traceca-2026-
 05-15
X-ALT-DESC;FMTTYPE=text/html:Event details & registration: https://www.iru.
 org/join-us/events/eighteenth-annual-meeting-intergovernmental-commission-
 igc-traceca-2026-05-15
DTSTAMP:20260426T002749Z
END:VEVENT
END:VCALENDAR