BEGIN:VCALENDAR
VERSION:2.0
PRODID:iru.org
BEGIN:VEVENT
UID:69ed5c0607d39
DTSTART:20260505T113000Z
SEQUENCE:0
TRANSP:OPAQUE
DTEND:20260505T130000Z
URL:https://www.adb.org/annual-meeting/2026/events/pan-asia-corridors
SUMMARY:59th annual meeting of the Asian Development Bank
CLASS:PUBLIC
DESCRIPTION:Event details & registration: https://www.iru.org/join-us/event
 s/59th-annual-meeting-asian-development-bank-2026-05-05
X-ALT-DESC;FMTTYPE=text/html:Event details & registration: https://www.iru.
 org/join-us/events/59th-annual-meeting-asian-development-bank-2026-05-05
DTSTAMP:20260426T002750Z
END:VEVENT
END:VCALENDAR