BEGIN:VCALENDAR
VERSION:2.0
PRODID:iru.org
BEGIN:VEVENT
UID:69e8a4548d773
DTSTART:20260506T220000Z
SEQUENCE:0
TRANSP:OPAQUE
DTEND:20260506T220000Z
URL:https://www.nato.int/en
SUMMARY:NATO Transport Group
CLASS:PUBLIC
DESCRIPTION:Event details & registration: https://www.iru.org/join-us/event
 s/nato-transport-group-2026-05-07
X-ALT-DESC;FMTTYPE=text/html:Event details & registration: https://www.iru.
 org/join-us/events/nato-transport-group-2026-05-07
DTSTAMP:20260422T103500Z
END:VEVENT
END:VCALENDAR