BEGIN:VCALENDAR
VERSION:2.0
PRODID:iru.org
BEGIN:VEVENT
UID:69e63bee429be
DTSTART:20260505T130000Z
SEQUENCE:0
TRANSP:OPAQUE
DTEND:20260505T140000Z
URL:https://us02web.zoom.us/webinar/register/9516576441463/WN_SGgmaUXdS1OsS
 __l8P7V8A
SUMMARY:The European Road Freight Rate Development Benchmark Q1 2026
CLASS:PUBLIC
DESCRIPTION:Event details & registration: https://www.iru.org/join-us/event
 s/european-road-freight-rate-development-benchmark-q1-2026-2026-05-05
X-ALT-DESC;FMTTYPE=text/html:Event details & registration: https://www.iru.
 org/join-us/events/european-road-freight-rate-development-benchmark-q1-202
 6-2026-05-05
DTSTAMP:20260420T144502Z
END:VEVENT
END:VCALENDAR