BEGIN:VCALENDAR
VERSION:2.0
PRODID:iru.org
BEGIN:VEVENT
UID:69e9c221e1b93
DTSTART:20260429T093000Z
SEQUENCE:0
TRANSP:OPAQUE
DTEND:20260429T110000Z
URL:https://www.iru.org/join-us/events/iru-academy-ati-e-meeting-2026-04-29
SUMMARY:IRU Academy ATI e-meeting
CLASS:PUBLIC
DESCRIPTION:Event details & registration: https://www.iru.org/join-us/event
 s/iru-academy-ati-e-meeting-2026-04-29
X-ALT-DESC;FMTTYPE=text/html:Event details & registration: https://www.iru.
 org/join-us/events/iru-academy-ati-e-meeting-2026-04-29
DTSTAMP:20260423T065425Z
END:VEVENT
END:VCALENDAR