BEGIN:VCALENDAR
VERSION:2.0
PRODID:iru.org
BEGIN:VEVENT
UID:69e7af3aca039
DTSTART:20260603T070000Z
SEQUENCE:0
TRANSP:OPAQUE
DTEND:20260603T150000Z
URL:https://www.issa.int/events/prevention/2026-symposium-healthy-truck-dri
 vers
SUMMARY:Driving health forward: healthcare for truck drivers across borders
CLASS:PUBLIC
DESCRIPTION:Event details & registration: https://www.iru.org/join-us/event
 s/driving-health-forward-healthcare-truck-drivers-across-borders-2026-06-0
 3
X-ALT-DESC;FMTTYPE=text/html:Event details & registration: https://www.iru.
 org/join-us/events/driving-health-forward-healthcare-truck-drivers-across-
 borders-2026-06-03
DTSTAMP:20260421T170914Z
END:VEVENT
END:VCALENDAR