BEGIN:VCALENDAR
VERSION:2.0
PRODID:iru.org
BEGIN:VEVENT
UID:69e513a42f1f7
DTSTART:20260608T220000Z
SEQUENCE:0
TRANSP:OPAQUE
DTEND:20260609T220000Z
URL:https://www.terrapinn.com/EVChargeLiveME_IRU
SUMMARY:EVCharge Live Middle East
CLASS:PUBLIC
DESCRIPTION:Event details & registration: https://www.iru.org/join-us/event
 s/evcharge-live-middle-east-2026-06-09
X-ALT-DESC;FMTTYPE=text/html:Event details & registration: https://www.iru.
 org/join-us/events/evcharge-live-middle-east-2026-06-09
DTSTAMP:20260419T174052Z
END:VEVENT
END:VCALENDAR